BEGIN:VCALENDAR
VERSION:2.0
PRODID:-//Centre of Leadership, Learning &amp; Academic Excellence - ECPv6.15.20//NONSGML v1.0//EN
CALSCALE:GREGORIAN
METHOD:PUBLISH
X-ORIGINAL-URL:https://loyalistcllae.ca
X-WR-CALDESC:Events for Centre of Leadership, Learning &amp; Academic Excellence
REFRESH-INTERVAL;VALUE=DURATION:PT1H
X-Robots-Tag:noindex
X-PUBLISHED-TTL:PT1H
BEGIN:VTIMEZONE
TZID:America/Toronto
BEGIN:DAYLIGHT
TZOFFSETFROM:-0500
TZOFFSETTO:-0400
TZNAME:EDT
DTSTART:20240310T070000
END:DAYLIGHT
BEGIN:STANDARD
TZOFFSETFROM:-0400
TZOFFSETTO:-0500
TZNAME:EST
DTSTART:20241103T060000
END:STANDARD
BEGIN:DAYLIGHT
TZOFFSETFROM:-0500
TZOFFSETTO:-0400
TZNAME:EDT
DTSTART:20250309T070000
END:DAYLIGHT
BEGIN:STANDARD
TZOFFSETFROM:-0400
TZOFFSETTO:-0500
TZNAME:EST
DTSTART:20251102T060000
END:STANDARD
BEGIN:DAYLIGHT
TZOFFSETFROM:-0500
TZOFFSETTO:-0400
TZNAME:EDT
DTSTART:20260308T070000
END:DAYLIGHT
BEGIN:STANDARD
TZOFFSETFROM:-0400
TZOFFSETTO:-0500
TZNAME:EST
DTSTART:20261101T060000
END:STANDARD
END:VTIMEZONE
BEGIN:VEVENT
DTSTART;TZID=America/Toronto:20250305T120000
DTEND;TZID=America/Toronto:20250305T125000
DTSTAMP:20260421T012639
CREATED:20250116T144317Z
LAST-MODIFIED:20250116T144317Z
UID:14850-1741176000-1741179000@loyalistcllae.ca
SUMMARY:Open Up: Eliminating Barriers in Education
DESCRIPTION:Open educational resources are innovative not just because they are free\, but because of how teachers adopt and creatively adapt them bringing them to life in the classroom or to reach every student. This session introduces Open Educational Resources and Practices\, how to spot an open resource and where to find them. \nREGISTER HERE.
URL:https://loyalistcllae.ca/event/open-up-eliminating-barriers-in-education/
LOCATION:3N35
END:VEVENT
BEGIN:VEVENT
DTSTART;TZID=America/Toronto:20250313T120000
DTEND;TZID=America/Toronto:20250313T125000
DTSTAMP:20260421T012639
CREATED:20250116T144800Z
LAST-MODIFIED:20250116T144846Z
UID:14852-1741867200-1741870200@loyalistcllae.ca
SUMMARY:Teaching in an AI Era: Opportunities and Ethical Considerations
DESCRIPTION:This introductory session is for faculty curious about artificial intelligence and interested in exploring its potential for teaching practices. The workshop aims to develop your AI literacy\, offering insights into how AI is transforming teaching and learning while discussing the ethical considerations and challenges. \nREGISTER HERE.
URL:https://loyalistcllae.ca/event/teaching-in-an-ai-era-opportunities-and-ethical-considerations/
LOCATION:2H13
END:VEVENT
BEGIN:VEVENT
DTSTART;TZID=America/Toronto:20250318T120000
DTEND;TZID=America/Toronto:20250318T125000
DTSTAMP:20260421T012639
CREATED:20250116T145209Z
LAST-MODIFIED:20250116T145209Z
UID:14855-1742299200-1742302200@loyalistcllae.ca
SUMMARY:Navigating Academic Integrity: Supporting Students Through Challenges and Growth
DESCRIPTION:This session will explore the complexities of academic integrity\, looking at strategies to support students in understanding and upholding ethical standards. Participants are encouraged to bring their common challenges so that we can brainstorm possible solutions. Through interactive discussions and practical examples\, attendees will gain insights into creating an environment where integrity is valued and students are empowered to succeed. \nREGISTER HERE.
URL:https://loyalistcllae.ca/event/navigating-academic-integrity-supporting-students-through-challenges-and-growth/
LOCATION:2H13
END:VEVENT
BEGIN:VEVENT
DTSTART;TZID=America/Toronto:20250326T120000
DTEND;TZID=America/Toronto:20250326T125000
DTSTAMP:20260421T012639
CREATED:20250116T145532Z
LAST-MODIFIED:20250116T145532Z
UID:14857-1742990400-1742993400@loyalistcllae.ca
SUMMARY:Supercharge Your Teaching Workflow with AI
DESCRIPTION:Have you been using AI tools as a teaching assistant to brainstorm engagement activities\, fine-tune assessments and rubrics\, or help with lesson planning? Or are you curious about how you could start using AI to support your teaching practices? Join this collaborative session to share your innovative AI practices with colleagues\, discover new tips and tricks for increasing efficiency with routine teaching tasks\, and explore practical ways to leverage AI as your digital teaching assistant. \nREGISTER HERE.
URL:https://loyalistcllae.ca/event/supercharge-your-teaching-workflow-with-ai/
LOCATION:2H13
END:VEVENT
END:VCALENDAR