BEGIN:VCALENDAR
VERSION:2.0
PRODID:-//Centre of Leadership, Learning &amp; Academic Excellence - ECPv6.15.20//NONSGML v1.0//EN
CALSCALE:GREGORIAN
METHOD:PUBLISH
X-WR-CALNAME:Centre of Leadership, Learning &amp; Academic Excellence
X-ORIGINAL-URL:https://loyalistcllae.ca
X-WR-CALDESC:Events for Centre of Leadership, Learning &amp; Academic Excellence
REFRESH-INTERVAL;VALUE=DURATION:PT1H
X-Robots-Tag:noindex
X-PUBLISHED-TTL:PT1H
BEGIN:VTIMEZONE
TZID:America/Toronto
BEGIN:DAYLIGHT
TZOFFSETFROM:-0500
TZOFFSETTO:-0400
TZNAME:EDT
DTSTART:20230312T070000
END:DAYLIGHT
BEGIN:STANDARD
TZOFFSETFROM:-0400
TZOFFSETTO:-0500
TZNAME:EST
DTSTART:20231105T060000
END:STANDARD
BEGIN:DAYLIGHT
TZOFFSETFROM:-0500
TZOFFSETTO:-0400
TZNAME:EDT
DTSTART:20240310T070000
END:DAYLIGHT
BEGIN:STANDARD
TZOFFSETFROM:-0400
TZOFFSETTO:-0500
TZNAME:EST
DTSTART:20241103T060000
END:STANDARD
BEGIN:DAYLIGHT
TZOFFSETFROM:-0500
TZOFFSETTO:-0400
TZNAME:EDT
DTSTART:20250309T070000
END:DAYLIGHT
BEGIN:STANDARD
TZOFFSETFROM:-0400
TZOFFSETTO:-0500
TZNAME:EST
DTSTART:20251102T060000
END:STANDARD
END:VTIMEZONE
BEGIN:VEVENT
DTSTART;TZID=America/Toronto:20241105T120000
DTEND;TZID=America/Toronto:20241105T125000
DTSTAMP:20260421T080524
CREATED:20240913T185547Z
LAST-MODIFIED:20240913T185547Z
UID:14198-1730808000-1730811000@loyalistcllae.ca
SUMMARY:Promoting Test Integrity using Testing Banks
DESCRIPTION:This session will demo the use of Canvas Question Banks and Item Banks as a place to house questions that provides opportunity to building quizzes that promote test integrity.
URL:https://loyalistcllae.ca/event/promoting-test-integrity-using-testing-banks/
LOCATION:2H13
END:VEVENT
BEGIN:VEVENT
DTSTART;TZID=America/Toronto:20241111T123000
DTEND;TZID=America/Toronto:20241111T140000
DTSTAMP:20260421T080524
CREATED:20241028T183809Z
LAST-MODIFIED:20241028T184013Z
UID:14391-1731328200-1731333600@loyalistcllae.ca
SUMMARY:Academic Integrity Policy Training Session - Hyflex
DESCRIPTION:The session will provide an opportunity to explore scenarios to ensure a smooth implementation of the Academic Integrity Policies\, and explore possible impacts on academic practices.
URL:https://loyalistcllae.ca/event/academic-integrity-policy-training-session-hyflex/
LOCATION:3N35
END:VEVENT
BEGIN:VEVENT
DTSTART;TZID=America/Toronto:20241112T100000
DTEND;TZID=America/Toronto:20241112T113000
DTSTAMP:20260421T080524
CREATED:20241028T184523Z
LAST-MODIFIED:20241028T184523Z
UID:14393-1731405600-1731411000@loyalistcllae.ca
SUMMARY:Academic Integrity Policy Training Session - Hyflex
DESCRIPTION:The session will provide an opportunity to explore scenarios to ensure a smooth implementation of the Academic Integrity Policies\, and explore possible impacts on academic practices.
URL:https://loyalistcllae.ca/event/academic-integrity-policy-training-session-hyflex-2/
LOCATION:3N35
END:VEVENT
BEGIN:VEVENT
DTSTART;TZID=America/Toronto:20241113T173000
DTEND;TZID=America/Toronto:20241113T193000
DTSTAMP:20260421T080524
CREATED:20240916T131453Z
LAST-MODIFIED:20240916T131453Z
UID:14222-1731519000-1731526200@loyalistcllae.ca
SUMMARY:Formative Assessments to Promote Thinking and Learning - Virtual Only
DESCRIPTION:This session will provide an overview of formative assessments with an emphasis on the strategies and tools that can be used to create authentic assessments. Learning Outcomes: Discuss and describe the role of formative assessments; Design different types of formative assessments.
URL:https://loyalistcllae.ca/event/formative-assessments-to-promote-thinking-and-learning-virtual-only/
LOCATION:Virtual
END:VEVENT
BEGIN:VEVENT
DTSTART;TZID=America/Toronto:20241114T120000
DTEND;TZID=America/Toronto:20241114T125000
DTSTAMP:20260421T080524
CREATED:20240913T185720Z
LAST-MODIFIED:20240913T185720Z
UID:14200-1731585600-1731588600@loyalistcllae.ca
SUMMARY:Strategies for In-Person Testing
DESCRIPTION:In this practical workshop\, discover effective strategies for maintaining test integrity during in-person examinations. We’ll cover a variety of options for creating a secure testing environment. Participants will share experiences and solutions for common challenges. This session will focus on tips and tricks for upholding academic integrity and ensuring a fair testing experience for all students.
URL:https://loyalistcllae.ca/event/strategies-for-in-person-testing/
LOCATION:2H13
END:VEVENT
BEGIN:VEVENT
DTSTART;TZID=America/Toronto:20241126T173000
DTEND;TZID=America/Toronto:20241126T193000
DTSTAMP:20260421T080524
CREATED:20240916T131702Z
LAST-MODIFIED:20240916T131702Z
UID:14224-1732642200-1732649400@loyalistcllae.ca
SUMMARY:Creating and Using Summative Assessments - Virtual Only
DESCRIPTION:This session will provide an overview of summative evaluations with an emphasis on the strategies and tools that can be used to create summative evaluations. Learning Outcomes: Discuss and describe the role of summative evaluations; Design different types of summative evaluations.
URL:https://loyalistcllae.ca/event/creating-and-using-summative-assessments-virtual-only/
LOCATION:Virtual
END:VEVENT
BEGIN:VEVENT
DTSTART;TZID=America/Toronto:20241128T120000
DTEND;TZID=America/Toronto:20241128T125000
DTSTAMP:20260421T080524
CREATED:20240913T190101Z
LAST-MODIFIED:20240913T190101Z
UID:14204-1732795200-1732798200@loyalistcllae.ca
SUMMARY:Sharing Circle
DESCRIPTION:
URL:https://loyalistcllae.ca/event/sharing-circle/
LOCATION:2H13
END:VEVENT
END:VCALENDAR