BEGIN:VCALENDAR
VERSION:2.0
PRODID:-//Centre of Leadership, Learning &amp; Academic Excellence - ECPv6.15.20//NONSGML v1.0//EN
CALSCALE:GREGORIAN
METHOD:PUBLISH
X-WR-CALNAME:Centre of Leadership, Learning &amp; Academic Excellence
X-ORIGINAL-URL:https://loyalistcllae.ca
X-WR-CALDESC:Events for Centre of Leadership, Learning &amp; Academic Excellence
REFRESH-INTERVAL;VALUE=DURATION:PT1H
X-Robots-Tag:noindex
X-PUBLISHED-TTL:PT1H
BEGIN:VTIMEZONE
TZID:America/Toronto
BEGIN:DAYLIGHT
TZOFFSETFROM:-0500
TZOFFSETTO:-0400
TZNAME:EDT
DTSTART:20230312T070000
END:DAYLIGHT
BEGIN:STANDARD
TZOFFSETFROM:-0400
TZOFFSETTO:-0500
TZNAME:EST
DTSTART:20231105T060000
END:STANDARD
BEGIN:DAYLIGHT
TZOFFSETFROM:-0500
TZOFFSETTO:-0400
TZNAME:EDT
DTSTART:20240310T070000
END:DAYLIGHT
BEGIN:STANDARD
TZOFFSETFROM:-0400
TZOFFSETTO:-0500
TZNAME:EST
DTSTART:20241103T060000
END:STANDARD
BEGIN:DAYLIGHT
TZOFFSETFROM:-0500
TZOFFSETTO:-0400
TZNAME:EDT
DTSTART:20250309T070000
END:DAYLIGHT
BEGIN:STANDARD
TZOFFSETFROM:-0400
TZOFFSETTO:-0500
TZNAME:EST
DTSTART:20251102T060000
END:STANDARD
END:VTIMEZONE
BEGIN:VEVENT
DTSTART;TZID=America/Toronto:20240919T120000
DTEND;TZID=America/Toronto:20240919T125000
DTSTAMP:20260421T112740
CREATED:20240913T184014Z
LAST-MODIFIED:20240913T184014Z
UID:14186-1726747200-1726750200@loyalistcllae.ca
SUMMARY:Digital Learning Tools at Loyalist
DESCRIPTION:Engaging and motivating students is always a challenging task faced\, even by seasoned educators. In this session\, Loyalist-supported digital learning tools\, including H5P\, Padlet\, and Poll Everywhere\, will be demonstrated to help you create interactive learning activities.
URL:https://loyalistcllae.ca/event/digital-learning-tools-at-loyalist/
LOCATION:3N35
END:VEVENT
BEGIN:VEVENT
DTSTART;TZID=America/Toronto:20240924T120000
DTEND;TZID=America/Toronto:20240924T125000
DTSTAMP:20260421T112740
CREATED:20240913T184251Z
LAST-MODIFIED:20240913T184251Z
UID:14188-1727179200-1727182200@loyalistcllae.ca
SUMMARY:Speedgrader: Grading and Providing Feedback
DESCRIPTION:This hands-on session will explore the features of the speedgarder tool in canvas. Faculty will be provided with a demonstration of how to grade and annotate student submissions\, and provide written\, video\, and/or audio feedback to learners.
URL:https://loyalistcllae.ca/event/speedgrader-grading-and-providing-feedback/
LOCATION:2H13
END:VEVENT
END:VCALENDAR